BEGIN:VCALENDAR
VERSION:2.0
PRODID:-//wp-events-plugin.com//6.4.7.3//EN
BEGIN:VEVENT
UID:6@45rhodium.com
DTSTART;TZID=America/Phoenix:20191109T083000
DTEND;TZID=America/Phoenix:20191109T110000
DTSTAMP:20190920T223927Z
URL:https://45rhodium.com/events/15th-annual-paradise-valley-veterans-appr
 eciation-vintage-car-show/
SUMMARY:15th Annual Paradise Valley Veteran's Appreciation Vintage Car Show
DESCRIPTION:15th Annual Paradise Valley Veteran's Appreciation Vintage Car 
 Show\n\nOnly Pre-1979 vehicles.
LOCATION:Paradise Valley Town Hall\, 6401 E Lincoln Dr\, Paradise Valley\, 
 AZ\, 85253\, United States
X-APPLE-STRUCTURED-LOCATION;VALUE=URI;X-ADDRESS=6401 E Lincoln Dr\, Paradis
 e Valley\, AZ\, 85253\, United States;X-APPLE-RADIUS=100;X-TITLE=Paradise 
 Valley Town Hall:geo:0,0
END:VEVENT
BEGIN:VTIMEZONE
TZID:America/Phoenix
X-LIC-LOCATION:America/Phoenix
BEGIN:STANDARD
DTSTART:20181109T083000
TZOFFSETFROM:-0700
TZOFFSETTO:-0700
TZNAME:MST
END:STANDARD
END:VTIMEZONE
END:VCALENDAR