BEGIN:VCALENDAR
VERSION:2.0
PRODID:-//wp-events-plugin.com//6.4.7.3//EN
BEGIN:VEVENT
UID:10@45rhodium.com
DTSTART;TZID=America/Phoenix:20191116T070000
DTEND;TZID=America/Phoenix:20191116T093000
DTSTAMP:20191030T192513Z
URL:https://45rhodium.com/events/chandler-cars-coffee/
SUMMARY:Chandler Cars & Coffee
DESCRIPTION:Cars &amp\; Coffee at Kneader's Baker Chandler\, 1090 W Queen C
 reek Rd\, Chandler
END:VEVENT
BEGIN:VTIMEZONE
TZID:America/Phoenix
X-LIC-LOCATION:America/Phoenix
BEGIN:STANDARD
DTSTART:20181116T070000
TZOFFSETFROM:-0700
TZOFFSETTO:-0700
TZNAME:MST
END:STANDARD
END:VTIMEZONE
END:VCALENDAR