BEGIN:VCALENDAR
VERSION:2.0
PRODID:-//wp-events-plugin.com//6.4.7.3//EN
BEGIN:VEVENT
UID:2@45rhodium.com
DTSTART;TZID=America/Phoenix:20191004T150000
DTEND;TZID=America/Phoenix:20191004T190000
DTSTAMP:20190920T203954Z
URL:https://45rhodium.com/events/cruise-at-bashas/
SUMMARY:Cruise at Bashas
DESCRIPTION:Cruise At Bashas\n\nOctober 4th 3:00 pm to 7:00 pm
LOCATION:Basha's Parking Lot\, 10715 E. Apache Trail\, Apache Junction\, AZ
 \, 85120\, United States
X-APPLE-STRUCTURED-LOCATION;VALUE=URI;X-ADDRESS=10715 E. Apache Trail\, Apa
 che Junction\, AZ\, 85120\, United States;X-APPLE-RADIUS=100;X-TITLE=Basha
 's Parking Lot:geo:0,0
END:VEVENT
BEGIN:VTIMEZONE
TZID:America/Phoenix
X-LIC-LOCATION:America/Phoenix
BEGIN:STANDARD
DTSTART:20181004T150000
TZOFFSETFROM:-0700
TZOFFSETTO:-0700
TZNAME:MST
END:STANDARD
END:VTIMEZONE
END:VCALENDAR