BEGIN:VCALENDAR
VERSION:2.0
PRODID:-//wp-events-plugin.com//6.4.7.3//EN
BEGIN:VEVENT
UID:11@45rhodium.com
DTSTART;TZID=America/Phoenix:20191221T070000
DTEND;TZID=America/Phoenix:20191221T090000
DTSTAMP:20191122T204112Z
URL:https://45rhodium.com/events/kars-koffee/
SUMMARY:Kars & Koffee (7 a to 9 am) 1020 E Pecos Rd\, Chandler AZ
DESCRIPTION:Kars &amp\; Koffee at The Kind Bean\, 1020 E Pecos Rd\, Chandle
 r AZ\n\n12/21/2019 7 am to 9 am
LOCATION:The Kind Bean\, 1020 E Pecos Rd\, Chandler\, AZ\, United States
X-APPLE-STRUCTURED-LOCATION;VALUE=URI;X-ADDRESS=1020 E Pecos Rd\, Chandler\
 , AZ\, United States;X-APPLE-RADIUS=100;X-TITLE=The Kind Bean:geo:0,0
END:VEVENT
BEGIN:VTIMEZONE
TZID:America/Phoenix
X-LIC-LOCATION:America/Phoenix
BEGIN:STANDARD
DTSTART:20181221T070000
TZOFFSETFROM:-0700
TZOFFSETTO:-0700
TZNAME:MST
END:STANDARD
END:VTIMEZONE
END:VCALENDAR