BEGIN:VCALENDAR
VERSION:2.0
PRODID:-//wp-events-plugin.com//6.4.7.3//EN
BEGIN:VEVENT
UID:82@45rhodium.com
DTSTART;TZID=America/Phoenix:20191221T160000
DTEND;TZID=America/Phoenix:20191221T200000
DTSTAMP:20191210T200631Z
URL:https://45rhodium.com/events/power-hampton-cruise-night-4-pm-to-8-pm-1
 445-s-power-rd-mesa-az/
SUMMARY:Power & Hampton Cruise Night (4 pm to 8 pm) 1445 S Power Rd\, Mesa 
 AZ
DESCRIPTION:Power &amp\; Hampton Cruise Night at Kmart Power &amp\; Hampton
  - 1445 S Power Rd\, Mesa\, AZ 85206\n\n12/21/2019 4 pm to 8 pm
LOCATION:Scottsdale Pavilions\, 9140 E Indian Bend Rd\, Scottsdale\, AZ\, U
 nited States
X-APPLE-STRUCTURED-LOCATION;VALUE=URI;X-ADDRESS=9140 E Indian Bend Rd\, Sco
 ttsdale\, AZ\, United States;X-APPLE-RADIUS=100;X-TITLE=Scottsdale Pavilio
 ns:geo:0,0
END:VEVENT
BEGIN:VTIMEZONE
TZID:America/Phoenix
X-LIC-LOCATION:America/Phoenix
BEGIN:STANDARD
DTSTART:20181221T160000
TZOFFSETFROM:-0700
TZOFFSETTO:-0700
TZNAME:MST
END:STANDARD
END:VTIMEZONE
END:VCALENDAR