BEGIN:VCALENDAR
VERSION:2.0
PRODID:-//wp-events-plugin.com//6.4.7.3//EN
BEGIN:VEVENT
UID:5@45rhodium.com
DTSTART;TZID=America/Phoenix:20191026T070000
DTEND;TZID=America/Phoenix:20191026T150000
DTSTAMP:20190920T220902Z
URL:https://45rhodium.com/events/vintage-wings-wheels-car-show/
SUMMARY:Vintage Wings & Wheels Car Show
DESCRIPTION:Cool Custom Car rods\n\nAntique Aircraft &amp\; WWII War Birds 
 and more
LOCATION:Commemorative Air Force Airbase\, 2017 N Greenfield Rd\, Mesa\, AZ
 \, 85215\, United States
X-APPLE-STRUCTURED-LOCATION;VALUE=URI;X-ADDRESS=2017 N Greenfield Rd\, Mesa
 \, AZ\, 85215\, United States;X-APPLE-RADIUS=100;X-TITLE=Commemorative Air
  Force Airbase:geo:0,0
END:VEVENT
BEGIN:VTIMEZONE
TZID:America/Phoenix
X-LIC-LOCATION:America/Phoenix
BEGIN:STANDARD
DTSTART:20181026T070000
TZOFFSETFROM:-0700
TZOFFSETTO:-0700
TZNAME:MST
END:STANDARD
END:VTIMEZONE
END:VCALENDAR